BEGIN:VCALENDAR
VERSION:2.0
PRODID:-//معهد البيان للخدمات التعليمية - ECPv6.15.20//NONSGML v1.0//EN
CALSCALE:GREGORIAN
METHOD:PUBLISH
X-WR-CALNAME:معهد البيان للخدمات التعليمية
X-ORIGINAL-URL:https://hibi-my.org
X-WR-CALDESC:Events for معهد البيان للخدمات التعليمية
REFRESH-INTERVAL;VALUE=DURATION:PT1H
X-Robots-Tag:noindex
X-PUBLISHED-TTL:PT1H
BEGIN:VTIMEZONE
TZID:UTC
BEGIN:STANDARD
TZOFFSETFROM:+0000
TZOFFSETTO:+0000
TZNAME:UTC
DTSTART:20220101T000000
END:STANDARD
END:VTIMEZONE
BEGIN:VEVENT
DTSTART;TZID=UTC:20230111T080000
DTEND;TZID=UTC:20230111T170000
DTSTAMP:20260421T034734
CREATED:20230111T041010Z
LAST-MODIFIED:20230111T041010Z
UID:260-1673424000-1673456400@hibi-my.org
SUMMARY:Nairobi Design Week
DESCRIPTION:Sed ut perspiciatis unde omnis iste natus error sit voluptatem accusantium doloremque laudantium\, totam rem aperiam\, eaque ipsa quae ab illo. \nSed ut perspiciatis unde omnis iste natus error sit voluptatem accusantium doloremque laudantium\, totam rem aperiam\, eaque ipsa quae ab illo inventore veritatis et quasi architecto beatae vitae dicta sunt explicabo. Nemo enim ipsam voluptatem quia voluptas sit aspernatur aut odit aut fugit\, sed quia consequuntur magni dolores eos qui ratione voluptatem sequi nesciunt.
URL:https://hibi-my.org/event/nairobi-design-week/
CATEGORIES:Seminars
ATTACH;FMTTYPE=image/jpeg:https://hibi-my.org/wp-content/uploads/2023/01/event-3.jpg
END:VEVENT
END:VCALENDAR